BEGIN:VCALENDAR
VERSION:2.0
PRODID:-//eventon.com NONSGML v1.0//EN
CALSCALE:GREGORIAN
METHOD:PUBLISH
BEGIN:VEVENT
UID:69ed6c7b8e494
DTSTAMP:20260426T013803Z
DTSTART:20270606T153000Z
DTEND:20270606T173000Z
LOCATION:
SUMMARY:Sunday Morning Worship
DESCRIPTION:\nhttps://ziontempletyler.org/events/sunday-morning-worship/var
 /ri-170.l-L1
URL:https://ziontempletyler.org/events/sunday-morning-worship/var/ri-170.l-L1
END:VEVENT
END:VCALENDAR