BEGIN:VCALENDAR
VERSION:2.0
PRODID:-//eventon.com NONSGML v1.0//EN
CALSCALE:GREGORIAN
METHOD:PUBLISH
BEGIN:VEVENT
UID:69ed350dafa33
DTSTAMP:20260425T214133Z
DTSTART:20270523T153000Z
DTEND:20270523T173000Z
LOCATION:
SUMMARY:Sunday Morning Worship
DESCRIPTION:\nhttps://ziontempletyler.org/events/sunday-morning-worship/var
 /ri-168.l-L1
URL:https://ziontempletyler.org/events/sunday-morning-worship/var/ri-168.l-L1
END:VEVENT
END:VCALENDAR