BEGIN:VCALENDAR
VERSION:2.0
PRODID:-//eventon.com NONSGML v1.0//EN
CALSCALE:GREGORIAN
METHOD:PUBLISH
BEGIN:VEVENT
UID:69ecccbf80cdf
DTSTAMP:20260425T141631Z
DTSTART:20270425T153000Z
DTEND:20270425T173000Z
LOCATION:
SUMMARY:Sunday Morning Worship
DESCRIPTION:\nhttps://ziontempletyler.org/events/sunday-morning-worship/var
 /ri-164.l-L1
URL:https://ziontempletyler.org/events/sunday-morning-worship/var/ri-164.l-L1
END:VEVENT
END:VCALENDAR