BEGIN:VCALENDAR
VERSION:2.0
PRODID:-//eventon.com NONSGML v1.0//EN
CALSCALE:GREGORIAN
METHOD:PUBLISH
BEGIN:VEVENT
UID:69ecb090f07cb
DTSTAMP:20260425T121616Z
DTSTART:20270418T153000Z
DTEND:20270418T173000Z
LOCATION:
SUMMARY:Sunday Morning Worship
DESCRIPTION:\nhttps://ziontempletyler.org/events/sunday-morning-worship/var
 /ri-163.l-L1
URL:https://ziontempletyler.org/events/sunday-morning-worship/var/ri-163.l-L1
END:VEVENT
END:VCALENDAR