BEGIN:VCALENDAR
VERSION:2.0
PRODID:-//eventon.com NONSGML v1.0//EN
CALSCALE:GREGORIAN
METHOD:PUBLISH
BEGIN:VEVENT
UID:69ec95296c4d8
DTSTAMP:20260425T101921Z
DTSTART:20270411T153000Z
DTEND:20270411T173000Z
LOCATION:
SUMMARY:Sunday Morning Worship
DESCRIPTION:\nhttps://ziontempletyler.org/events/sunday-morning-worship/var
 /ri-162.l-L1
URL:https://ziontempletyler.org/events/sunday-morning-worship/var/ri-162.l-L1
END:VEVENT
END:VCALENDAR