BEGIN:VCALENDAR
VERSION:2.0
PRODID:-//eventon.com NONSGML v1.0//EN
CALSCALE:GREGORIAN
METHOD:PUBLISH
BEGIN:VEVENT
UID:69eb80567d83b
DTSTAMP:20260424T143814Z
DTSTART:20270131T163000Z
DTEND:20270131T183000Z
LOCATION:
SUMMARY:Sunday Morning Worship
DESCRIPTION:\nhttps://ziontempletyler.org/events/sunday-morning-worship/var
 /ri-152.l-L1
URL:https://ziontempletyler.org/events/sunday-morning-worship/var/ri-152.l-L1
END:VEVENT
END:VCALENDAR