BEGIN:VCALENDAR
VERSION:2.0
PRODID:-//eventon.com NONSGML v1.0//EN
CALSCALE:GREGORIAN
METHOD:PUBLISH
BEGIN:VEVENT
UID:69eb65ff56e6e
DTSTAMP:20260424T124551Z
DTSTART:20270124T163000Z
DTEND:20270124T183000Z
LOCATION:
SUMMARY:Sunday Morning Worship
DESCRIPTION:\nhttps://ziontempletyler.org/events/sunday-morning-worship/var
 /ri-151.l-L1
URL:https://ziontempletyler.org/events/sunday-morning-worship/var/ri-151.l-L1
END:VEVENT
END:VCALENDAR