BEGIN:VCALENDAR
VERSION:2.0
PRODID:-//eventon.com NONSGML v1.0//EN
CALSCALE:GREGORIAN
METHOD:PUBLISH
BEGIN:VEVENT
UID:69eb4f13282c0
DTSTAMP:20260424T110803Z
DTSTART:20270117T163000Z
DTEND:20270117T183000Z
LOCATION:
SUMMARY:Sunday Morning Worship
DESCRIPTION:\nhttps://ziontempletyler.org/events/sunday-morning-worship/var
 /ri-150.l-L1
URL:https://ziontempletyler.org/events/sunday-morning-worship/var/ri-150.l-L1
END:VEVENT
END:VCALENDAR