BEGIN:VCALENDAR
VERSION:2.0
PRODID:-//eventon.com NONSGML v1.0//EN
CALSCALE:GREGORIAN
METHOD:PUBLISH
BEGIN:VEVENT
UID:69eb1a3d9403f
DTSTAMP:20260424T072237Z
DTSTART:20270103T163000Z
DTEND:20270103T183000Z
LOCATION:
SUMMARY:Sunday Morning Worship
DESCRIPTION:\nhttps://ziontempletyler.org/events/sunday-morning-worship/var
 /ri-148.l-L1
URL:https://ziontempletyler.org/events/sunday-morning-worship/var/ri-148.l-L1
END:VEVENT
END:VCALENDAR