BEGIN:VCALENDAR
VERSION:2.0
PRODID:-//eventon.com NONSGML v1.0//EN
CALSCALE:GREGORIAN
METHOD:PUBLISH
BEGIN:VEVENT
UID:69eb005d05c84
DTSTAMP:20260424T053213Z
DTSTART:20261227T163000Z
DTEND:20261227T183000Z
LOCATION:
SUMMARY:Sunday Morning Worship
DESCRIPTION:\nhttps://ziontempletyler.org/events/sunday-morning-worship/var
 /ri-147.l-L1
URL:https://ziontempletyler.org/events/sunday-morning-worship/var/ri-147.l-L1
END:VEVENT
END:VCALENDAR