BEGIN:VCALENDAR
VERSION:2.0
PRODID:-//eventon.com NONSGML v1.0//EN
CALSCALE:GREGORIAN
METHOD:PUBLISH
BEGIN:VEVENT
UID:69ead00270220
DTSTAMP:20260424T020554Z
DTSTART:20261213T163000Z
DTEND:20261213T183000Z
LOCATION:
SUMMARY:Sunday Morning Worship
DESCRIPTION:\nhttps://ziontempletyler.org/events/sunday-morning-worship/var
 /ri-145.l-L1
URL:https://ziontempletyler.org/events/sunday-morning-worship/var/ri-145.l-L1
END:VEVENT
END:VCALENDAR