BEGIN:VCALENDAR
VERSION:2.0
PRODID:-//eventon.com NONSGML v1.0//EN
CALSCALE:GREGORIAN
METHOD:PUBLISH
BEGIN:VEVENT
UID:69eab8970b745
DTSTAMP:20260424T002559Z
DTSTART:20261206T163000Z
DTEND:20261206T183000Z
LOCATION:
SUMMARY:Sunday Morning Worship
DESCRIPTION:\nhttps://ziontempletyler.org/events/sunday-morning-worship/var
 /ri-144.l-L1
URL:https://ziontempletyler.org/events/sunday-morning-worship/var/ri-144.l-L1
END:VEVENT
END:VCALENDAR