BEGIN:VCALENDAR
VERSION:2.0
PRODID:-//eventon.com NONSGML v1.0//EN
CALSCALE:GREGORIAN
METHOD:PUBLISH
BEGIN:VEVENT
UID:69ea9bf9c95ba
DTSTAMP:20260423T222353Z
DTSTART:20261129T163000Z
DTEND:20261129T183000Z
LOCATION:
SUMMARY:Sunday Morning Worship
DESCRIPTION:\nhttps://ziontempletyler.org/events/sunday-morning-worship/var
 /ri-143.l-L1
URL:https://ziontempletyler.org/events/sunday-morning-worship/var/ri-143.l-L1
END:VEVENT
END:VCALENDAR