BEGIN:VCALENDAR
VERSION:2.0
PRODID:-//eventon.com NONSGML v1.0//EN
CALSCALE:GREGORIAN
METHOD:PUBLISH
BEGIN:VEVENT
UID:69ea80b576c14
DTSTAMP:20260423T202733Z
DTSTART:20261122T163000Z
DTEND:20261122T183000Z
LOCATION:
SUMMARY:Sunday Morning Worship
DESCRIPTION:\nhttps://ziontempletyler.org/events/sunday-morning-worship/var
 /ri-142.l-L1
URL:https://ziontempletyler.org/events/sunday-morning-worship/var/ri-142.l-L1
END:VEVENT
END:VCALENDAR