BEGIN:VCALENDAR
VERSION:2.0
PRODID:-//eventon.com NONSGML v1.0//EN
CALSCALE:GREGORIAN
METHOD:PUBLISH
BEGIN:VEVENT
UID:69ea657acc887
DTSTAMP:20260423T183122Z
DTSTART:20261115T163000Z
DTEND:20261115T183000Z
LOCATION:
SUMMARY:Sunday Morning Worship
DESCRIPTION:\nhttps://ziontempletyler.org/events/sunday-morning-worship/var
 /ri-141.l-L1
URL:https://ziontempletyler.org/events/sunday-morning-worship/var/ri-141.l-L1
END:VEVENT
END:VCALENDAR