BEGIN:VCALENDAR
VERSION:2.0
PRODID:-//eventon.com NONSGML v1.0//EN
CALSCALE:GREGORIAN
METHOD:PUBLISH
BEGIN:VEVENT
UID:69ea4c5742d89
DTSTAMP:20260423T164407Z
DTSTART:20261108T163000Z
DTEND:20261108T183000Z
LOCATION:
SUMMARY:Sunday Morning Worship
DESCRIPTION:\nhttps://ziontempletyler.org/events/sunday-morning-worship/var
 /ri-140.l-L1
URL:https://ziontempletyler.org/events/sunday-morning-worship/var/ri-140.l-L1
END:VEVENT
END:VCALENDAR