BEGIN:VCALENDAR
VERSION:2.0
PRODID:-//eventon.com NONSGML v1.0//EN
CALSCALE:GREGORIAN
METHOD:PUBLISH
BEGIN:VEVENT
UID:69ea33840773e
DTSTAMP:20260423T145812Z
DTSTART:20261101T163000Z
DTEND:20261101T183000Z
LOCATION:
SUMMARY:Sunday Morning Worship
DESCRIPTION:\nhttps://ziontempletyler.org/events/sunday-morning-worship/var
 /ri-139.l-L1
URL:https://ziontempletyler.org/events/sunday-morning-worship/var/ri-139.l-L1
END:VEVENT
END:VCALENDAR