BEGIN:VCALENDAR
VERSION:2.0
PRODID:-//eventon.com NONSGML v1.0//EN
CALSCALE:GREGORIAN
METHOD:PUBLISH
BEGIN:VEVENT
UID:69e9e421842ec
DTSTAMP:20260423T091929Z
DTSTART:20261011T153000Z
DTEND:20261011T173000Z
LOCATION:
SUMMARY:Sunday Morning Worship
DESCRIPTION:\nhttps://ziontempletyler.org/events/sunday-morning-worship/var
 /ri-136.l-L1
URL:https://ziontempletyler.org/events/sunday-morning-worship/var/ri-136.l-L1
END:VEVENT
END:VCALENDAR