BEGIN:VCALENDAR
VERSION:2.0
PRODID:-//eventon.com NONSGML v1.0//EN
CALSCALE:GREGORIAN
METHOD:PUBLISH
BEGIN:VEVENT
UID:69e9c9a102a03
DTSTAMP:20260423T072625Z
DTSTART:20261004T153000Z
DTEND:20261004T173000Z
LOCATION:
SUMMARY:Sunday Morning Worship
DESCRIPTION:\nhttps://ziontempletyler.org/events/sunday-morning-worship/var
 /ri-135.l-L1
URL:https://ziontempletyler.org/events/sunday-morning-worship/var/ri-135.l-L1
END:VEVENT
END:VCALENDAR