BEGIN:VCALENDAR
VERSION:2.0
PRODID:-//eventon.com NONSGML v1.0//EN
CALSCALE:GREGORIAN
METHOD:PUBLISH
BEGIN:VEVENT
UID:69e97b3d8d395
DTSTAMP:20260423T015157Z
DTSTART:20260913T153000Z
DTEND:20260913T173000Z
LOCATION:
SUMMARY:Sunday Morning Worship
DESCRIPTION:\nhttps://ziontempletyler.org/events/sunday-morning-worship/var
 /ri-132.l-L1
URL:https://ziontempletyler.org/events/sunday-morning-worship/var/ri-132.l-L1
END:VEVENT
END:VCALENDAR