BEGIN:VCALENDAR
VERSION:2.0
PRODID:-//eventon.com NONSGML v1.0//EN
CALSCALE:GREGORIAN
METHOD:PUBLISH
BEGIN:VEVENT
UID:69e9614e8a9b4
DTSTAMP:20260423T000118Z
DTSTART:20260906T153000Z
DTEND:20260906T173000Z
LOCATION:
SUMMARY:Sunday Morning Worship
DESCRIPTION:\nhttps://ziontempletyler.org/events/sunday-morning-worship/var
 /ri-131.l-L1
URL:https://ziontempletyler.org/events/sunday-morning-worship/var/ri-131.l-L1
END:VEVENT
END:VCALENDAR