BEGIN:VCALENDAR
VERSION:2.0
PRODID:-//eventon.com NONSGML v1.0//EN
CALSCALE:GREGORIAN
METHOD:PUBLISH
BEGIN:VEVENT
UID:69e910cf754fb
DTSTAMP:20260422T181751Z
DTSTART:20260816T153000Z
DTEND:20260816T173000Z
LOCATION:
SUMMARY:Sunday Morning Worship
DESCRIPTION:\nhttps://ziontempletyler.org/events/sunday-morning-worship/var
 /ri-128.l-L1
URL:https://ziontempletyler.org/events/sunday-morning-worship/var/ri-128.l-L1
END:VEVENT
END:VCALENDAR