BEGIN:VCALENDAR
VERSION:2.0
PRODID:-//eventon.com NONSGML v1.0//EN
CALSCALE:GREGORIAN
METHOD:PUBLISH
BEGIN:VEVENT
UID:69e8f54dbfd44
DTSTAMP:20260422T162029Z
DTSTART:20260809T153000Z
DTEND:20260809T173000Z
LOCATION:
SUMMARY:Sunday Morning Worship
DESCRIPTION:\nhttps://ziontempletyler.org/events/sunday-morning-worship/var
 /ri-127.l-L1
URL:https://ziontempletyler.org/events/sunday-morning-worship/var/ri-127.l-L1
END:VEVENT
END:VCALENDAR