BEGIN:VCALENDAR
VERSION:2.0
PRODID:-//eventon.com NONSGML v1.0//EN
CALSCALE:GREGORIAN
METHOD:PUBLISH
BEGIN:VEVENT
UID:69e8be3539898
DTSTAMP:20260422T122525Z
DTSTART:20260726T153000Z
DTEND:20260726T173000Z
LOCATION:
SUMMARY:Sunday Morning Worship
DESCRIPTION:\nhttps://ziontempletyler.org/events/sunday-morning-worship/var
 /ri-125.l-L1
URL:https://ziontempletyler.org/events/sunday-morning-worship/var/ri-125.l-L1
END:VEVENT
END:VCALENDAR