BEGIN:VCALENDAR
VERSION:2.0
PRODID:-//eventon.com NONSGML v1.0//EN
CALSCALE:GREGORIAN
METHOD:PUBLISH
BEGIN:VEVENT
UID:69e5e350103d0
DTSTAMP:20260420T082656Z
DTSTART:20260705T153000Z
DTEND:20260705T173000Z
LOCATION:
SUMMARY:Sunday Morning Worship
DESCRIPTION:\nhttps://ziontempletyler.org/events/sunday-morning-worship/var
 /ri-122.l-L1
URL:https://ziontempletyler.org/events/sunday-morning-worship/var/ri-122.l-L1
END:VEVENT
END:VCALENDAR