BEGIN:VCALENDAR
VERSION:2.0
PRODID:-//eventon.com NONSGML v1.0//EN
CALSCALE:GREGORIAN
METHOD:PUBLISH
BEGIN:VEVENT
UID:69e5c8da534e3
DTSTAMP:20260420T063402Z
DTSTART:20260628T153000Z
DTEND:20260628T173000Z
LOCATION:
SUMMARY:Sunday Morning Worship
DESCRIPTION:\nhttps://ziontempletyler.org/events/sunday-morning-worship/var
 /ri-121.l-L1
URL:https://ziontempletyler.org/events/sunday-morning-worship/var/ri-121.l-L1
END:VEVENT
END:VCALENDAR