BEGIN:VCALENDAR
VERSION:2.0
PRODID:-//eventon.com NONSGML v1.0//EN
CALSCALE:GREGORIAN
METHOD:PUBLISH
BEGIN:VEVENT
UID:69e5b2a07a5f9
DTSTAMP:20260420T045912Z
DTSTART:20260621T153000Z
DTEND:20260621T173000Z
LOCATION:
SUMMARY:Sunday Morning Worship
DESCRIPTION:\nhttps://ziontempletyler.org/events/sunday-morning-worship/var
 /ri-120.l-L1
URL:https://ziontempletyler.org/events/sunday-morning-worship/var/ri-120.l-L1
END:VEVENT
END:VCALENDAR