BEGIN:VCALENDAR
VERSION:2.0
PRODID:-//eventon.com NONSGML v1.0//EN
CALSCALE:GREGORIAN
METHOD:PUBLISH
BEGIN:VEVENT
UID:69e59b009d9e0
DTSTAMP:20260420T031824Z
DTSTART:20260614T153000Z
DTEND:20260614T173000Z
LOCATION:
SUMMARY:Sunday Morning Worship
DESCRIPTION:\nhttps://ziontempletyler.org/events/sunday-morning-worship/var
 /ri-119.l-L1
URL:https://ziontempletyler.org/events/sunday-morning-worship/var/ri-119.l-L1
END:VEVENT
END:VCALENDAR