BEGIN:VCALENDAR
VERSION:2.0
PRODID:-//eventon.com NONSGML v1.0//EN
CALSCALE:GREGORIAN
METHOD:PUBLISH
BEGIN:VEVENT
UID:69e553bcbff6d
DTSTAMP:20260419T221420Z
DTSTART:20260524T153000Z
DTEND:20260524T173000Z
LOCATION:
SUMMARY:Sunday Morning Worship
DESCRIPTION:\nhttps://ziontempletyler.org/events/sunday-morning-worship/var
 /ri-116.l-L1
URL:https://ziontempletyler.org/events/sunday-morning-worship/var/ri-116.l-L1
END:VEVENT
END:VCALENDAR