BEGIN:VCALENDAR
VERSION:2.0
PRODID:-//eventon.com NONSGML v1.0//EN
CALSCALE:GREGORIAN
METHOD:PUBLISH
BEGIN:VEVENT
UID:69e53eb267117
DTSTAMP:20260419T204434Z
DTSTART:20260517T153000Z
DTEND:20260517T173000Z
LOCATION:
SUMMARY:Sunday Morning Worship
DESCRIPTION:\nhttps://ziontempletyler.org/events/sunday-morning-worship/var
 /ri-115.l-L1
URL:https://ziontempletyler.org/events/sunday-morning-worship/var/ri-115.l-L1
END:VEVENT
END:VCALENDAR