BEGIN:VCALENDAR
VERSION:2.0
PRODID:-//eventon.com NONSGML v1.0//EN
CALSCALE:GREGORIAN
METHOD:PUBLISH
BEGIN:VEVENT
UID:69e524f0efa2b
DTSTAMP:20260419T185440Z
DTSTART:20260510T153000Z
DTEND:20260510T173000Z
LOCATION:
SUMMARY:Sunday Morning Worship
DESCRIPTION:\nhttps://ziontempletyler.org/events/sunday-morning-worship/var
 /ri-114.l-L1
URL:https://ziontempletyler.org/events/sunday-morning-worship/var/ri-114.l-L1
END:VEVENT
END:VCALENDAR