BEGIN:VCALENDAR
VERSION:2.0
PRODID:-//eventon.com NONSGML v1.0//EN
CALSCALE:GREGORIAN
METHOD:PUBLISH
BEGIN:VEVENT
UID:69e5091bdb890
DTSTAMP:20260419T165555Z
DTSTART:20260503T153000Z
DTEND:20260503T173000Z
LOCATION:
SUMMARY:Sunday Morning Worship
DESCRIPTION:\nhttps://ziontempletyler.org/events/sunday-morning-worship/var
 /ri-113.l-L1
URL:https://ziontempletyler.org/events/sunday-morning-worship/var/ri-113.l-L1
END:VEVENT
END:VCALENDAR