BEGIN:VCALENDAR
VERSION:2.0
PRODID:-//eventon.com NONSGML v1.0//EN
CALSCALE:GREGORIAN
METHOD:PUBLISH
BEGIN:VEVENT
UID:69e4eff54e308
DTSTAMP:20260419T150837Z
DTSTART:20260426T153000Z
DTEND:20260426T173000Z
LOCATION:
SUMMARY:Sunday Morning Worship
DESCRIPTION:\nhttps://ziontempletyler.org/events/sunday-morning-worship/var
 /ri-112.l-L1
URL:https://ziontempletyler.org/events/sunday-morning-worship/var/ri-112.l-L1
END:VEVENT
END:VCALENDAR