BEGIN:VCALENDAR
VERSION:2.0
PRODID:-//eventon.com NONSGML v1.0//EN
CALSCALE:GREGORIAN
METHOD:PUBLISH
BEGIN:VEVENT
UID:69e4f48912aa5
DTSTAMP:20260419T152809Z
DTSTART:20260412T153000Z
DTEND:20260412T173000Z
LOCATION:
SUMMARY:Sunday Morning Worship
DESCRIPTION:\nhttps://ziontempletyler.org/events/sunday-morning-worship/var
 /ri-110.l-L1
URL:https://ziontempletyler.org/events/sunday-morning-worship/var/ri-110.l-L1
END:VEVENT
END:VCALENDAR