BEGIN:VCALENDAR
VERSION:2.0
PRODID:-//eventon.com NONSGML v1.0//EN
CALSCALE:GREGORIAN
METHOD:PUBLISH
BEGIN:VEVENT
UID:69e52d65ad69f
DTSTAMP:20260419T193045Z
DTSTART:20260329T153000Z
DTEND:20260329T173000Z
LOCATION:
SUMMARY:Sunday Morning Worship
DESCRIPTION:\nhttps://ziontempletyler.org/events/sunday-morning-worship/var
 /ri-108.l-L1
URL:https://ziontempletyler.org/events/sunday-morning-worship/var/ri-108.l-L1
END:VEVENT
END:VCALENDAR