BEGIN:VCALENDAR
VERSION:2.0
PRODID:-//eventon.com NONSGML v1.0//EN
CALSCALE:GREGORIAN
METHOD:PUBLISH
BEGIN:VEVENT
UID:69e4f463e9c5a
DTSTAMP:20260419T152731Z
DTSTART:20240303T163000Z
DTEND:20240303T183000Z
LOCATION:
SUMMARY:Sunday Morning Worship
DESCRIPTION:\nhttps://ziontempletyler.org/events/sunday-morning-worship/
URL:https://ziontempletyler.org/events/sunday-morning-worship/
END:VEVENT
END:VCALENDAR